BEGIN:VCALENDAR
VERSION:2.0
PRODID:-//Minerva - Associazione di divulgazione scientifica - ECPv6.15.20//NONSGML v1.0//EN
CALSCALE:GREGORIAN
METHOD:PUBLISH
X-WR-CALNAME:Minerva - Associazione di divulgazione scientifica
X-ORIGINAL-URL:https://www.noidiminerva.it
X-WR-CALDESC:Eventi per Minerva - Associazione di divulgazione scientifica
REFRESH-INTERVAL;VALUE=DURATION:PT1H
X-Robots-Tag:noindex
X-PUBLISHED-TTL:PT1H
BEGIN:VTIMEZONE
TZID:Europe/Rome
BEGIN:DAYLIGHT
TZOFFSETFROM:+0100
TZOFFSETTO:+0200
TZNAME:CEST
DTSTART:20140330T010000
END:DAYLIGHT
BEGIN:STANDARD
TZOFFSETFROM:+0200
TZOFFSETTO:+0100
TZNAME:CET
DTSTART:20141026T010000
END:STANDARD
BEGIN:DAYLIGHT
TZOFFSETFROM:+0100
TZOFFSETTO:+0200
TZNAME:CEST
DTSTART:20150329T010000
END:DAYLIGHT
BEGIN:STANDARD
TZOFFSETFROM:+0200
TZOFFSETTO:+0100
TZNAME:CET
DTSTART:20151025T010000
END:STANDARD
BEGIN:DAYLIGHT
TZOFFSETFROM:+0100
TZOFFSETTO:+0200
TZNAME:CEST
DTSTART:20160327T010000
END:DAYLIGHT
BEGIN:STANDARD
TZOFFSETFROM:+0200
TZOFFSETTO:+0100
TZNAME:CET
DTSTART:20161030T010000
END:STANDARD
END:VTIMEZONE
BEGIN:VEVENT
DTSTART;TZID=Europe/Rome:20150321T204500
DTEND;TZID=Europe/Rome:20150321T220000
DTSTAMP:20260423T033915
CREATED:20160310T094933Z
LAST-MODIFIED:20170209T100036Z
UID:1725-1426970700-1426975200@www.noidiminerva.it
SUMMARY:Vaccini\, tra paure e realtà - Incontro a Bologna
DESCRIPTION:Da molti anni ormai il tema dei vaccini e dei rischi\, reali o meno\, ad esso connessi tiene banco nel dibattito pubblico nazionale e internazionale. Risale a pochi mesi fa la vicenda che ha coinvolto in Italia il vaccino antinfluenzale Fluad\, che in seguito ne è uscito scagionato\, ma che ha comunque portanto molte persone a non vaccinarsi e alla conseguente congestione degli ospedali nel mese di gennaio dovuta alla sopravvenuta emergenza influenze. Imperversa ora negli Stati Uniti la discussione sui vaccini obbligatori a causa di una impennata dei casi di morbillo dovuta alla psicosi sui vaccini\, tanto da costringere le autorità a sconsigliare ai non vaccinati di recarsi nel parco divertimenti di Disney World\, diventato un piccolo focolaio dell’epidemia.\nMa il caso senza ombra di dubbio più famoso è quello del presunto legame tra vaccinazioni obbligatorie e l’insorgenza dell’autismo\, nato da un famoso caso di corruzione di un medico inglese risalente a diciassette anni fa ma che si trascina ancora oggi ovunque nel mondo con alterne fortune\, comprese le aule giudiziarie italiane. \n\nSu tutti questi temi Minerva – Divulgazione Scientifica intende fare chiarezza con il rigore e l’imparzialità che da sempre la contraddistingue; l‘incontro si terrà Sabato 21 Marzo\, presso la Sala Cenerini del Quartiere Saragozza. \nIntroduzione a cura di:\n– Michelangelo Coltelli fondatore di “Bufale un tanto al chilo” \nRelatori:\n– Dott. Fausto Francia\, Vice-presidente della Società di Igiene e Direttore del Dipartimento di Sanità Pubblica dell’Azienda USL di Bologna.\n– Dott. Pietro Arina\, Medico Chirurgo \nL’iniziativa è organizzata da ‘Minerva – Divulgazione Scientifica’ in collaborazione con ‘Bufale un tanto al chilo’ e con il patrocino del Quartiere Saragozza \nSala consigliare Cenerini – Via Pietralata\, 60 – Bologna
URL:https://www.noidiminerva.it/evento/vaccini-tra-paure-e-realta-3/
LOCATION:Sala Cenerini – Quartiere Saragozza\, Via Pietralata\, 60\, Bologna\, Italia
CATEGORIES:Incontro
ATTACH;FMTTYPE=image/jpeg:https://www.noidiminerva.it/wp-content/uploads/2016/07/MinervaVaccini-Web.jpg
END:VEVENT
END:VCALENDAR