BEGIN:VCALENDAR
VERSION:2.0
PRODID:-//Minerva - Associazione di divulgazione scientifica - ECPv6.15.20//NONSGML v1.0//EN
CALSCALE:GREGORIAN
METHOD:PUBLISH
X-ORIGINAL-URL:https://www.noidiminerva.it
X-WR-CALDESC:Eventi per Minerva - Associazione di divulgazione scientifica
REFRESH-INTERVAL;VALUE=DURATION:PT1H
X-Robots-Tag:noindex
X-PUBLISHED-TTL:PT1H
BEGIN:VTIMEZONE
TZID:Europe/Rome
BEGIN:DAYLIGHT
TZOFFSETFROM:+0100
TZOFFSETTO:+0200
TZNAME:CEST
DTSTART:20130331T010000
END:DAYLIGHT
BEGIN:STANDARD
TZOFFSETFROM:+0200
TZOFFSETTO:+0100
TZNAME:CET
DTSTART:20131027T010000
END:STANDARD
BEGIN:DAYLIGHT
TZOFFSETFROM:+0100
TZOFFSETTO:+0200
TZNAME:CEST
DTSTART:20140330T010000
END:DAYLIGHT
BEGIN:STANDARD
TZOFFSETFROM:+0200
TZOFFSETTO:+0100
TZNAME:CET
DTSTART:20141026T010000
END:STANDARD
BEGIN:DAYLIGHT
TZOFFSETFROM:+0100
TZOFFSETTO:+0200
TZNAME:CEST
DTSTART:20150329T010000
END:DAYLIGHT
BEGIN:STANDARD
TZOFFSETFROM:+0200
TZOFFSETTO:+0100
TZNAME:CET
DTSTART:20151025T010000
END:STANDARD
BEGIN:DAYLIGHT
TZOFFSETFROM:+0100
TZOFFSETTO:+0200
TZNAME:CEST
DTSTART:20160327T010000
END:DAYLIGHT
BEGIN:STANDARD
TZOFFSETFROM:+0200
TZOFFSETTO:+0100
TZNAME:CET
DTSTART:20161030T010000
END:STANDARD
BEGIN:DAYLIGHT
TZOFFSETFROM:+0100
TZOFFSETTO:+0200
TZNAME:CEST
DTSTART:20170326T010000
END:DAYLIGHT
BEGIN:STANDARD
TZOFFSETFROM:+0200
TZOFFSETTO:+0100
TZNAME:CET
DTSTART:20171029T010000
END:STANDARD
END:VTIMEZONE
BEGIN:VEVENT
DTSTART;TZID=Europe/Rome:20160224T105000
DTEND;TZID=Europe/Rome:20160224T120000
DTSTAMP:20260422T204938
CREATED:20160725T224706Z
LAST-MODIFIED:20181216T211543Z
UID:1692-1456311000-1456315200@www.noidiminerva.it
SUMMARY:Disinformazione e Bufale: come orientarsi su internet
DESCRIPTION:#‎NoiDiMinerva‬ e BUTAC – Bufale un tanto al chilo. saremo mercoledì 24 Febbraio ore 10.50 al Liceo Scientifico “N. Copernico” – Prato (biblioteca scolastica) per parlare di “‪#‎Disinformazione‬ e ‪#‎Bufale‬: come orientarsi su ‪#‎internet‬”. Moderano l’incontro Elisa Chen e Anna Alessandra Monaco\, intervengono Filippo Fagni e Noemi Jane Urso. \n 
URL:https://www.noidiminerva.it/evento/disinformazione-e-bufale-come-orientarsi-su-internet/
LOCATION:Liceo Scientifico “N. Copernico”\, Prato\, Italia
CATEGORIES:Incontro
ATTACH;FMTTYPE=image/jpeg:https://www.noidiminerva.it/wp-content/uploads/2016/07/12776893_10206875488538654_1988623260_o-1-240x300.jpg
END:VEVENT
BEGIN:VEVENT
DTSTART;TZID=Europe/Rome:20160222T081500
DTEND;TZID=Europe/Rome:20160222T100000
DTSTAMP:20260422T204938
CREATED:20160725T230415Z
LAST-MODIFIED:20181216T211543Z
UID:1698-1456128900-1456135200@www.noidiminerva.it
SUMMARY:La scoperta delle onde gravitazionali
DESCRIPTION:Lunedì 22 Febbraio si terrà presso il Liceo Fermi di Bologna dalle ore 8.15 alle ore 10.10 l’incontro La scoperta delle onde gravitazionali. Relatore dell’incontro è il professor Marco Giammarchi.
URL:https://www.noidiminerva.it/evento/la-scoperta-delle-onde-gravitazionali/
CATEGORIES:Incontro
ATTACH;FMTTYPE=image/jpeg:https://www.noidiminerva.it/wp-content/uploads/2016/07/10286911_459748710886174_3500675766171755764_o-768x543-1.jpg
END:VEVENT
BEGIN:VEVENT
DTSTART;TZID=Europe/Rome:20160129T200000
DTEND;TZID=Europe/Rome:20160129T210000
DTSTAMP:20260422T204938
CREATED:20160725T230637Z
LAST-MODIFIED:20170209T100036Z
UID:1700-1454097600-1454101200@www.noidiminerva.it
SUMMARY:Aperitivo con Minerva
DESCRIPTION:Vuoi conoscerti? Il 29 gennaio 2016 ore 20.00 sarà possibile incontrare i soci Minerva ad un aperitivo buffet organizzato al locale il Chiodo in via Vinazzetti 7/a. \nUn’opportunità per scoprire le nostre iniziative e fare due chiacchiere di scienza. Per permettere al locale di organizzarsi i partecipanti sono invitati a iscriversi al seguente link eventbrite https://goo.gl/nKbRpZ \nPer maggiori informazioni scriveteci al nostro indirizzo minerva.segreteria@gmail.com o contattateci alla nostra pagina facebook. \nVi aspettiamo numerosi!
URL:https://www.noidiminerva.it/evento/aperitivo-con-minerva-2/
LOCATION:il Chiodo\, via Vinazzetti 7/a\, Bologna\, Italia
CATEGORIES:Incontro
ATTACH;FMTTYPE=image/jpeg:https://www.noidiminerva.it/wp-content/uploads/2016/07/12622247_451337888393923_4648923373164239445_o.jpg
END:VEVENT
BEGIN:VEVENT
DTSTART;VALUE=DATE:20160108
DTEND;VALUE=DATE:20160109
DTSTAMP:20260422T204938
CREATED:20160104T110903Z
LAST-MODIFIED:20181216T213541Z
UID:1212-1452211200-1452297599@www.noidiminerva.it
SUMMARY:Scatta una foto per Minerva!
DESCRIPTION:Minerva indice un contest fotografico per scegliere la nuova immagine di copertina.\nLa partecipazione è aperta a tutti coloro che presenteranno una foto compresa di descrizione inerente il tema “meraviglie dell’inverno: le scienze naturali”. \nLe modalità di partecipazione sono le seguenti:\n1. Inviare una foto panoramica ad alta risoluzione\, compresa di descrizione ed eventuale Nick (in assenza sarà usato l’user fb) tramite messaggio privato alla pagina di Minerva entro il 18 gennaio\n2. Successivamente sarà creato un album immagini con tutte le foto ritenute inerenti col tema.\nLe foto potranno essere votate con il “mi piace” da parte dei lettori della pagina all’interno dell’album fino al 31 Gennaio.\n3. Alla scadenza della votazione\, la foto che avrà ricevuto più like sarà inserita nella copertina della pagina con la descrizione ed il nome del fotografo vincitore. \nPreparate gli obiettivi e scatenate i click! La “caccia” è aperta!
URL:https://www.noidiminerva.it/evento/scatta-una-foto-per-minerva/
CATEGORIES:Attività
ATTACH;FMTTYPE=image/jpeg:https://www.noidiminerva.it/wp-content/uploads/2016/01/7773_10207084423062427_2353153931950612958_n.jpg
ORGANIZER;CN="Minerva":MAILTO:info@noidiminerva.it
END:VEVENT
BEGIN:VEVENT
DTSTART;TZID=Europe/Rome:20151210T081500
DTEND;TZID=Europe/Rome:20151210T112000
DTSTAMP:20260422T204938
CREATED:20150922T145205Z
LAST-MODIFIED:20181216T211543Z
UID:1102-1449735300-1449746400@www.noidiminerva.it
SUMMARY:Mettiamoci in gioco
DESCRIPTION:Bologna 12 ottobre 2015 ore 8.15\,  Liceo Scientifico Fermi Via Giuseppe Mazzini 172. \nMinerva in collaborazione col Liceo Scientifico Fermi di Bologna\, in occasione dell’European Biotech Week 2015\, organizza l’incontro Mettiamoci in gioco. L’appuntamento coinvolgerà la classe 5D che potrà partecipare a un playdecide sulle Vaccinazioni\, al termine della quale si terrà una conferenza sulle vaccinazioni. \nProgramma: \n8.15 – 8.30: Organizzazione dei gruppi di lavoro\n8.30 – 10.05: Playdecide\n10.05 – 10.25: Break\n10.25 – 11.20: Confronto dei lavori e conferenza sulle vaccinazioni\n\nMinerva metterà a disposizione dei ragazzi studenti giovani studenti universitari e ricercatori per confrontarsi sul tema.\n\nRelatori dell’iniziativa sono la Dott.ssa Simona Provenzano laureata in Biotecnologie Farmaceutiche\, Luca Bagnoli studente di Medicina presso l’Unibo e Filippo Fagni\, studenti di Medicina presso l’Unifi.\n 
URL:https://www.noidiminerva.it/evento/mettiamoci-in-gioco/
CATEGORIES:Incontro
END:VEVENT
BEGIN:VEVENT
DTSTART;TZID=Europe/Rome:20151119T203000
DTEND;TZID=Europe/Rome:20151119T220000
DTSTAMP:20260422T204938
CREATED:20160726T075105Z
LAST-MODIFIED:20170209T100036Z
UID:1705-1447965000-1447970400@www.noidiminerva.it
SUMMARY:Vaccini tra Paure e Realtà
DESCRIPTION:Recentemente i vaccini sono diventati un tema caldo del dibattito pubblico e molti genitori esprimono il desiderio di ricevere più informazioni riguardo alle vaccinazioni ed ai rischi ad essi collegati. Minerva Associazione Di Divulgazione Scientifica\, Tutt’Insieme per la Scuola e Orango – curiosi per natura hanno organizzato un appuntamento per far chiarezza sul tema e offrire ai genitori un momento di confronto con degli esperti. L’iniziativa è patrocinata dal Quartire Rubicone di Calisese di Cesena. \nL’evento è gratuito e aperto a tutti: il numero di posti è LIMITATO e per partecipare è necessario REGISTRARSI ON-LINE http://goo.gl/QqdcV1 \nDi seguito il programma dell’iniziativa.\n20.30 Saluti ufficiali:\n– Manuela Gori\, Presidente di Assotips\n– Si Hui Elisa Chen\, Biotecnologa\, Presidente di Minerva\nInterverranno:\n20.45 Alice Pignatti\, Mamma promotrice della campagna IoVaccino\nPerchè una mamma si interessa di vaccini?\n20.50 Massimo Farneti\, Pediatra di Comunità\, Direttore U.O. Pediatria e Consultorio Familiare di Cesena\nCosa sono i vaccini? Impariamo a conoscerli\n21.15 Luca Bagnoli\, divulgatore\, socio Minerva\nInformarsi sul web: dove cercare le notizie? Cosa dicono i media sui vaccini?\n21.35 Domande del pubblico\n22.30 Chiusura dell’incontro \nPer l’evento fb: https://goo.gl/ifEq8B
URL:https://www.noidiminerva.it/evento/vaccini-tra-paure-e-realta/
LOCATION:Sala della pace – Quartiere Rubicone\, Via P. Suzzi\, 193\, Calisese di cesena (FC)\, Italia
CATEGORIES:Incontro
ATTACH;FMTTYPE=image/jpeg:https://www.noidiminerva.it/wp-content/uploads/2016/07/neww.jpg
END:VEVENT
BEGIN:VEVENT
DTSTART;TZID=Europe/Rome:20151112T083000
DTEND;TZID=Europe/Rome:20151112T131500
DTSTAMP:20260422T204938
CREATED:20160726T080817Z
LAST-MODIFIED:20181216T211543Z
UID:1708-1447317000-1447334100@www.noidiminerva.it
SUMMARY:Informarsi sui vaccini: a caccia di notizie
DESCRIPTION:L’evento è dedicato alle classi del secondo anno e si terrà il 12 novembre nell’Aula Dardani della sede associata del Liceo Fermi in Via Toscana 1\, a Bologna.\nSi terranno due turni (identici per contenuti) nei tempi seguenti:\n1° Turno: Ore 8:30-10:30\n2° Turno: Ore 10:45-13:15 \n\nI temi trattati dai relatori saranno i seguenti:\nFilippo Fagni: Vaccini\, armi contro i nemici invisibili.\nGiacomo Cinti: Nuove frontiere: combattere i tumori con le vaccinazioni\nLuca Bagnoli: Cosa dicono i media sui vaccini?\nElisa Chen: Informarsi sul web: impariamo a verificare una notizia\nModera: Elisa Chen \nAlle relazioni\, seguiranno 45 minuti (circa) dedicati all’interazione coi ragazzi. Saranno sottoposti a un gioco nel quale daremo loro alcune domande “controverse” prese dalla rete: a gruppi dovranno cercare su internet la risposta corretta alla domanda scegliendo fonti affidabili e saranno valutati con un “voto” da 1 a 3 in base alle loro ricerche.
URL:https://www.noidiminerva.it/evento/informarsi-sui-vaccini-a-caccia-di-notizie-2/
LOCATION:Aula Dardani della sede associata del Liceo Fermi\, Via Toscana 1\, Bologna\, Italia
CATEGORIES:Incontro
ATTACH;FMTTYPE=image/jpeg:https://www.noidiminerva.it/wp-content/uploads/2016/07/vacccc.jpg
END:VEVENT
BEGIN:VEVENT
DTSTART;VALUE=DATE:20151012
DTEND;VALUE=DATE:20151017
DTSTAMP:20260422T204938
CREATED:20160726T083326Z
LAST-MODIFIED:20181216T211543Z
UID:1716-1444608000-1445039999@www.noidiminerva.it
SUMMARY:European Biotech Week 2015
DESCRIPTION:In occasione dell’European biotech Week Minerva e il Dipartimento di Medicina Veterinaria dell’Università di Bologna organizzano i seguenti appuntamenti: \n12 ottobre 2015: Mettiamoci in gioco – Bologna\, ore 8.15-11.20 Liceo Scientifico Fermi\, Via Giuseppe Mazzini\, 172 \n14 ottobre 2015: Le Biotecnologie e gli animali\, insieme verso il futuro – Bologna\,  ore 14.30-16.30 Aula C Fisiologia Piazza di Porta S. Donato 2 \n16 ottobre 2015: Segui la traccia: il DNA barcoding – Ozzano dell’Emilia\, ore 11.00-13.00 Aula Cugnini \, Via Tolara di Sopra\, 50 \n17 ottobre 2015 Mettiamoci in gioco – Bologna\, ore 8.15-11.20 Liceo Scientifico Fermi\, Via Giuseppe Mazzini\, 172CANCELLATO\n \n  \nDi seguito il link per iscriversi agli eventi del 14 e 16 ottobre: https://eventi.unibo.it/biotecnologie-animali-ebw2015 \nPer maggiori informazioni sul programma delle iniziative che si terranno in Italia visitare il sito assobiotec.
URL:https://www.noidiminerva.it/evento/european-biotech-week-2015/
LOCATION:Evento di prova 1\, Bologna\, Italia
CATEGORIES:Incontro
ATTACH;FMTTYPE=image/jpeg:https://www.noidiminerva.it/wp-content/uploads/2016/07/LOGO_EBW_vectorised-1024x572.jpg
END:VEVENT
BEGIN:VEVENT
DTSTART;TZID=Europe/Rome:20151011T083000
DTEND;TZID=Europe/Rome:20151011T131500
DTSTAMP:20260422T204938
CREATED:20151110T114303Z
LAST-MODIFIED:20181216T211543Z
UID:1171-1444552200-1444569300@www.noidiminerva.it
SUMMARY:Informarsi sui vaccini: a caccia di notizie
DESCRIPTION:L’evento è dedicato alle classi del secondo anno e si terrà il 12 novembre nell’Aula Dardani della sede associata del Liceo Fermi in Via Toscana 1\, a Bologna.\n Si terranno due turni (identici per contenuti) nei tempi seguenti:\n1° Turno: Ore 8:30-10:30\n2° Turno: Ore 10:45-13:15 \n\nI temi trattati dai relatori saranno i seguenti:\n Filippo Fagni: Vaccini\, armi contro i nemici invisibili.\n Giacomo Cinti: Nuove frontiere: combattere i tumori con le vaccinazioni\n Luca Bagnoli: Cosa dicono i media sui vaccini?\n Elisa Chen: Informarsi sul web: impariamo a verificare una notizia\n Modera: Elisa Chen \nAlle relazioni\, seguiranno 45 minuti (circa) dedicati all’interazione coi ragazzi. Saranno sottoposti a un gioco nel quale daremo loro alcune domande “controverse” prese dalla rete: a gruppi dovranno cercare su internet la risposta corretta alla domanda scegliendo fonti affidabili e saranno valutati con un “voto” da 1 a 3 in base alle loro ricerche. \n  \n 
URL:https://www.noidiminerva.it/evento/informarsi-sui-vaccini-a-caccia-di-notizie/
CATEGORIES:Incontro
ATTACH;FMTTYPE=image/jpeg:https://www.noidiminerva.it/wp-content/uploads/2015/11/vacccc.jpg
END:VEVENT
BEGIN:VEVENT
DTSTART;TZID=Europe/Rome:20150606T100000
DTEND;TZID=Europe/Rome:20150606T170000
DTSTAMP:20260422T204938
CREATED:20160601T083657Z
LAST-MODIFIED:20170209T100036Z
UID:1718-1433584800-1433610000@www.noidiminerva.it
SUMMARY:Vaccini: tra paure e realtà - Incontro a Zola Predosa
DESCRIPTION:VACCINI: TRA PAURE E REALTÀ \nSabato 6 giugno a Ca’ La Ghironda (Ponte Ronca di Zola Predosa\, Bologna) un incontro dedicato ai genitori per orientarsi sul tema dei vaccini e dissipare dubbi e paure. \nLa pratica vaccinale è uno dei capisaldi della salute pubblica\, che ha abbattuto l’incidenza di epidemie devastanti come la vaiolo e la poliomielite\, o più recentemente malattie come il morbillo\, la rosolia\, e la pertosse. Tuttavia\, recentemente i vaccini sono diventati un tema caldo del dibattito pubblico\, e molti genitori esprimono il desiderio di ricevere più informazioni riguardo i vaccini ed i rischi ad essi collegati. \nMinerva – Associazione di Divulgazione Scientifica\, la comunità di Bufale Un Tanto Al Chilo\, e il blog The Social Media Mama organizzano un evento dedicato ai neo-genitori per confrontarsi con esperti del settore per chiarire i propri dubbi e perplessità. \nSabato 6 giugno alle ore 9.30\, presso Ca’ La Ghironda (Ponte Ronca di Zola Predosa\, Bologna) si svolgerà l’incontro “VACCINI: TRA PAURE E REALTÀ”. \nDa molti anni ormai il tema dei vaccini e dei rischi\, reali o meno\, a loro connessi tiene banco nel dibattito pubblico nazionale e internazionale. Ricordiamo recentemente in Italia il caso del vaccino antinfluenzale Fluad\, che in seguito ne è uscito completamente scagionato\, l‘epidemia di morbillo negli Stati Uniti che ha trasformato il parco divertimenti Disney World in un focolaio dell’infezione\, e la decisione del governo australiano di tagliare i sussidi sanitari a chi rifiuta i vaccini obbligatori\, per non parlare dell’ormai completamente smentito legame tra vaccinazioni e autismo\, nato da un famoso caso di corruzione di un medico inglese\, ma che si trascina ancora oggi con alterne fortune\, comprese le aule giudiziarie italiane. \nSu tutti questi temi si intende fare chiarezza con rigore ed imparzialità\, ascoltando le legittime domande dei genitori e dissipando i dubbi con le riposte delle scienza e della medicina. \nIl programma dell’evento prevede l’intervento del dottor Fausto Francia\, Vice-Presidente della Società di Igiene e Direttore del Dipartimento di Sanità Pubblica dell’Azienda USL di Bologna\, della dottoressa Maria Grazia Pascucci\, Servizio Sanità Pubblica\, Direttore generale Sanità e politiche sociali Regione Emilia-Romagna\, e del dottor Pietro Arina\, medico chirurgo ed esperto nella lotta alle “bufale” sanitarie. \nL’evento è gratuito e aperto a tutti: per partecipare è necessario registrarsi on-line. \nQuando: sabato 6 giugno\, ore 9.30 \nDove: Ca’ la Ghironda – ModernArtMuseum\, via Leonardo da Vinci\, 19 – 40069 Ponte Ronca di Zola Predosa (Bologna). \nL’ iniziativa ha il patrocinio del Comune di Zola Pedrosa\, Ca’ la Ghironda ModernArtMuseum e della Regione Emilia-Romagna. \n\nPer maggiori informazioni: \nminerva.segreteria@gmail.com \nredazione@butac.it \nProgramma dell’evento \nChi siamo. \nMinerva – Associazione di Divulgazione Scientifica nasce a Bologna dall’azione di studenti\, professori e professionisti in diversi campi scientifici uniti dalla passione per la scienza e dal desiderio di comunicarla. \nBufale un tanto al chilo è una comunità dedicata alla lotta contro le “bufale”: notizie infondate\, disinformazione\, allarmismi gratuiti e frodi on-line. \nThe Social Media Mama è un blog dedicato ad aiutare i genitori ad orientarsi\, e gestisce da due anni il gruppo facebook “Consigli da mamma a mamma”\, con più di ottomila membri. \nCa’ La Ghironda ModernArtMuseum è un’area museale inserita in un enorme parco\, a pochi minuti da Casalecchio di Reno nella Città Metropolitana di Bologna. Al termine dell’evento sarà possibile pranzare presso il Ristorante Giocondo – Ca’ La Ghironda\, all’interno del parco.
URL:https://www.noidiminerva.it/evento/vaccini-tra-paure-e-realta-2/
LOCATION:Ca’ la Ghironda Area Museale\, Via Leonardo da Vinci\, 19\, Ponte Ronca di Zola Predosa\, Italia
CATEGORIES:Incontro
ATTACH;FMTTYPE=image/jpeg:https://www.noidiminerva.it/wp-content/uploads/2016/07/Minerva6Giu_Color_Web-724x1024.jpg
END:VEVENT
BEGIN:VEVENT
DTSTART;TZID=Europe/Rome:20150325T210000
DTEND;TZID=Europe/Rome:20150325T210000
DTSTAMP:20260422T204938
CREATED:20160726T084404Z
LAST-MODIFIED:20170209T100036Z
UID:1722-1427317200-1427317200@www.noidiminerva.it
SUMMARY:Biomasse: impariamo a conoscerle
DESCRIPTION:In occasione del ciclo d’incontri “Medolla l’ambiente e la natura”\, Minerva terrà il 25 marzo alle ore 21 presso l’auditorium comunale di Medolla in via Genova 10 l’incontro ” Biomasse\, impariamo a conoscerle” \nObiettivo dell’incontro è capire vantaggi e svantaggi delle biomasse\, offrendo una panoramica obiettiva sull’impatto ambientale dell’energia. \nProgramma:\n-Introduzione a cura dell’assessore all’Ambiente Patrizia Sgarbi \nInterverranno:\n– Dott. Mauro Buda\, Agronomo\, Responsabile per Colture Industriali e Agroenergie presso la S.I.V.A.M. SpA. Intervento sulle biomasse\, cosa sono\, vantaggi e svantaggi; miti sulle biomasse \n– Dott. Guglielmo Garagnani presidente di Confagricoltura Emilia Romagna. Intervento sulla situazione attuale delle biomasse in Italia e impatto economico sull’agricoltura. \nModera la giornalista Antonella Cardone. \nAl termine degli interventi vi sarà ampio spazio per le domande del pubblico.
URL:https://www.noidiminerva.it/evento/biomasse-impariamo-a-conoscerle/
LOCATION:Auditorium comunale\, Via Genova\, 10\, Medolla\, Italia
CATEGORIES:Incontro
ATTACH;FMTTYPE=image/jpeg:https://www.noidiminerva.it/wp-content/uploads/2016/07/volantino-25-03-2015-biomasse_2_OKKKKKK-724x1024.jpg
END:VEVENT
BEGIN:VEVENT
DTSTART;TZID=Europe/Rome:20150321T204500
DTEND;TZID=Europe/Rome:20150321T220000
DTSTAMP:20260422T204938
CREATED:20160310T094933Z
LAST-MODIFIED:20170209T100036Z
UID:1725-1426970700-1426975200@www.noidiminerva.it
SUMMARY:Vaccini\, tra paure e realtà - Incontro a Bologna
DESCRIPTION:Da molti anni ormai il tema dei vaccini e dei rischi\, reali o meno\, ad esso connessi tiene banco nel dibattito pubblico nazionale e internazionale. Risale a pochi mesi fa la vicenda che ha coinvolto in Italia il vaccino antinfluenzale Fluad\, che in seguito ne è uscito scagionato\, ma che ha comunque portanto molte persone a non vaccinarsi e alla conseguente congestione degli ospedali nel mese di gennaio dovuta alla sopravvenuta emergenza influenze. Imperversa ora negli Stati Uniti la discussione sui vaccini obbligatori a causa di una impennata dei casi di morbillo dovuta alla psicosi sui vaccini\, tanto da costringere le autorità a sconsigliare ai non vaccinati di recarsi nel parco divertimenti di Disney World\, diventato un piccolo focolaio dell’epidemia.\nMa il caso senza ombra di dubbio più famoso è quello del presunto legame tra vaccinazioni obbligatorie e l’insorgenza dell’autismo\, nato da un famoso caso di corruzione di un medico inglese risalente a diciassette anni fa ma che si trascina ancora oggi ovunque nel mondo con alterne fortune\, comprese le aule giudiziarie italiane. \n\nSu tutti questi temi Minerva – Divulgazione Scientifica intende fare chiarezza con il rigore e l’imparzialità che da sempre la contraddistingue; l‘incontro si terrà Sabato 21 Marzo\, presso la Sala Cenerini del Quartiere Saragozza. \nIntroduzione a cura di:\n– Michelangelo Coltelli fondatore di “Bufale un tanto al chilo” \nRelatori:\n– Dott. Fausto Francia\, Vice-presidente della Società di Igiene e Direttore del Dipartimento di Sanità Pubblica dell’Azienda USL di Bologna.\n– Dott. Pietro Arina\, Medico Chirurgo \nL’iniziativa è organizzata da ‘Minerva – Divulgazione Scientifica’ in collaborazione con ‘Bufale un tanto al chilo’ e con il patrocino del Quartiere Saragozza \nSala consigliare Cenerini – Via Pietralata\, 60 – Bologna
URL:https://www.noidiminerva.it/evento/vaccini-tra-paure-e-realta-3/
LOCATION:Sala Cenerini – Quartiere Saragozza\, Via Pietralata\, 60\, Bologna\, Italia
CATEGORIES:Incontro
ATTACH;FMTTYPE=image/jpeg:https://www.noidiminerva.it/wp-content/uploads/2016/07/MinervaVaccini-Web.jpg
END:VEVENT
BEGIN:VEVENT
DTSTART;TZID=Europe/Rome:20150210T080000
DTEND;TZID=Europe/Rome:20150210T170000
DTSTAMP:20260422T204938
CREATED:20150924T221848Z
LAST-MODIFIED:20170209T100036Z
UID:1117-1423555200-1423587600@www.noidiminerva.it
SUMMARY:La Rivoluzione della comunicazione per le vaccinazioni
DESCRIPTION:Il 2 ottobre Minerva parteciperà all’evento “La rivoluzione della comunicazione per le vaccinazioni“\, organizzato dal Dipartimento di Prevenzione di Fano con il patrocinio della Sltl Marche; tema degli incontri saranno le strategie di comunicazione da adottare in seguito al drastico calo delle coperture vaccinali degli ultimi anni. \nL’evento è gratuito e avrà luogo il 2 ottobre in Piazza XX Settembre a Fano\, nella Sala Verde del Teatro della Fortuna; per la partecipazione è necessaria l’iscrizione dal sito dell’evento\, in cui è presente anche il programma completo e l’elenco dei relatori. \nLink: http://www.events-communication.net/b65/index.php?option=com_content&view=featured&Itemid=101
URL:https://www.noidiminerva.it/evento/la-rivoluzione-della-comunicazione-per-le-vaccinazioni/
CATEGORIES:Incontro
ATTACH;FMTTYPE=image/gif:https://www.noidiminerva.it/wp-content/uploads/2015/09/logo.gif
END:VEVENT
BEGIN:VEVENT
DTSTART;TZID=Europe/Rome:20140610T100000
DTEND;TZID=Europe/Rome:20140610T120000
DTSTAMP:20260422T204938
CREATED:20140928T164113Z
LAST-MODIFIED:20210717T132335Z
UID:661-1402394400-1402401600@www.noidiminerva.it
SUMMARY:Che cosa è EBW? - Eventi a Bologna
DESCRIPTION:A seguito del successo della prima edizione\, dal 6 al 12 ottobre si terrà in tutta Europa la seconda edizione dell’ European Biotech Week  (EBW). L’EBW è un’iniziativa promossa da vari Paesi europei con l’obiettivo di far conoscere le varie sfaccettature delle biotecnologie al grande pubblico. A tal fine sono state organizzate conferenze\, dibattiti\, laboratori\, openday e spettacoli per avvicinare i cittadini alla realtà delle biotecnologie. Le iniziative nel suolo italiano sono coordinate da ASSOBIOTEC. \nA Bologna la Settimana si aprirà il 6 Ottobre alle ore 13.15 con un flashmob in Piazza Maggiore organizzato da Minerva: una brevissima performace che prevede la riproduzione coreografica di una mitosi (divisione cellulare). L’evento è aperto a tutti: per maggiori informazioni cliccare qui. \nSuccessivamente l’8 ottobre dalle 10.00 alle 12.00 al Dipartimento di Scienze Veterinarie (Ozzano) si terrà la conferenza “Le biotecnologie sono nel nostro piatto?” organizzata da ANBI e da UniBO: tema dell’incontro sono le applicazioni biotecnologiche nel campo agroalimentare. \nInfine il 10 ottobre si terrà il playdecide presso il liceo scientifico Copernico: gli studenti delle quinte si cimenteranno in questo discussion game guidati dai tutor di Minerva\, per confrontarsi sul tema delle cellule stamina \n 
URL:https://www.noidiminerva.it/evento/ebw_eventi-bologna/
LOCATION:Piazza Maggiore\, Piazza Maggiore\, Bologna\, Italia
CATEGORIES:Incontro
ATTACH;FMTTYPE=image/jpeg:https://www.noidiminerva.it/wp-content/uploads/2014/09/european-biotech-week.jpg
ORGANIZER;CN="Minerva":MAILTO:info@noidiminerva.it
END:VEVENT
BEGIN:VEVENT
DTSTART;VALUE=DATE:20140513
DTEND;VALUE=DATE:20140514
DTSTAMP:20260422T204938
CREATED:20140511T162856Z
LAST-MODIFIED:20210717T132116Z
UID:537-1399939200-1400025599@www.noidiminerva.it
SUMMARY:Incontro nelle Scuole a Pozzuoli (NA)
DESCRIPTION:In data 13 maggio si terrà la quarta tappa del progetto di divulgazione scientifica nelle scuole superiori\, presso il ISS Pitagora di Pozzuoli (NA). \nTitolo dell’incontro sarà ” Che ne sai tu dei malati rari? discussione su persone spesso dimenticate”. \nOspite esperto sarà la Dott. Anna Maria Zaccheddu della Fondazione Telethon.
URL:https://www.noidiminerva.it/evento/incontro-nelle-scuole-a-pozzuoli-na/
LOCATION:Istituto Superiore Pitagora\, Via Tiberio\, 1\, Pozzuoli (NA)\, 80078\, Italia
CATEGORIES:Incontro
ATTACH;FMTTYPE=image/jpeg:https://www.noidiminerva.it/wp-content/uploads/2014/05/incontro-scuole-pozzuoli.jpg
ORGANIZER;CN="Minerva":MAILTO:info@noidiminerva.it
END:VEVENT
BEGIN:VEVENT
DTSTART;TZID=Europe/Rome:20140414T110000
DTEND;TZID=Europe/Rome:20140414T170000
DTSTAMP:20260422T204938
CREATED:20140408T084830Z
LAST-MODIFIED:20210717T131903Z
UID:510-1397473200-1397494800@www.noidiminerva.it
SUMMARY:Incontro nelle Scuole a Bologna
DESCRIPTION:In data 14 si terrà la terza tappa del progetto di divulgazione scientifica nelle scuole superiori\, presso il Liceo Scientifico Fermi di Bologna. \nTema dell’incontro sarà “Naturale è bello?L’alimentazione tra biologico\, additivi e pesticidi”. \nOspite esperto sarà il Dott. Dario Bressanini. \n 
URL:https://www.noidiminerva.it/evento/incontro-nelle-scuole-a-bologna/
CATEGORIES:Incontro
ATTACH;FMTTYPE=image/jpeg:https://www.noidiminerva.it/wp-content/uploads/2014/04/locandina-evento-bologna-naturale-bello.jpg
END:VEVENT
END:VCALENDAR