BEGIN:VCALENDAR
VERSION:2.0
PRODID:-//Minerva - Associazione di divulgazione scientifica - ECPv6.15.20//NONSGML v1.0//EN
CALSCALE:GREGORIAN
METHOD:PUBLISH
X-WR-CALNAME:Minerva - Associazione di divulgazione scientifica
X-ORIGINAL-URL:https://www.noidiminerva.it
X-WR-CALDESC:Eventi per Minerva - Associazione di divulgazione scientifica
REFRESH-INTERVAL;VALUE=DURATION:PT1H
X-Robots-Tag:noindex
X-PUBLISHED-TTL:PT1H
BEGIN:VTIMEZONE
TZID:Europe/Rome
BEGIN:DAYLIGHT
TZOFFSETFROM:+0100
TZOFFSETTO:+0200
TZNAME:CEST
DTSTART:20130331T010000
END:DAYLIGHT
BEGIN:STANDARD
TZOFFSETFROM:+0200
TZOFFSETTO:+0100
TZNAME:CET
DTSTART:20131027T010000
END:STANDARD
BEGIN:DAYLIGHT
TZOFFSETFROM:+0100
TZOFFSETTO:+0200
TZNAME:CEST
DTSTART:20140330T010000
END:DAYLIGHT
BEGIN:STANDARD
TZOFFSETFROM:+0200
TZOFFSETTO:+0100
TZNAME:CET
DTSTART:20141026T010000
END:STANDARD
BEGIN:DAYLIGHT
TZOFFSETFROM:+0100
TZOFFSETTO:+0200
TZNAME:CEST
DTSTART:20150329T010000
END:DAYLIGHT
BEGIN:STANDARD
TZOFFSETFROM:+0200
TZOFFSETTO:+0100
TZNAME:CET
DTSTART:20151025T010000
END:STANDARD
BEGIN:DAYLIGHT
TZOFFSETFROM:+0100
TZOFFSETTO:+0200
TZNAME:CEST
DTSTART:20160327T010000
END:DAYLIGHT
BEGIN:STANDARD
TZOFFSETFROM:+0200
TZOFFSETTO:+0100
TZNAME:CET
DTSTART:20161030T010000
END:STANDARD
END:VTIMEZONE
BEGIN:VEVENT
DTSTART;TZID=Europe/Rome:20150325T210000
DTEND;TZID=Europe/Rome:20150325T210000
DTSTAMP:20260422T223954
CREATED:20160726T084404Z
LAST-MODIFIED:20170209T100036Z
UID:1722-1427317200-1427317200@www.noidiminerva.it
SUMMARY:Biomasse: impariamo a conoscerle
DESCRIPTION:In occasione del ciclo d’incontri “Medolla l’ambiente e la natura”\, Minerva terrà il 25 marzo alle ore 21 presso l’auditorium comunale di Medolla in via Genova 10 l’incontro ” Biomasse\, impariamo a conoscerle” \nObiettivo dell’incontro è capire vantaggi e svantaggi delle biomasse\, offrendo una panoramica obiettiva sull’impatto ambientale dell’energia. \nProgramma:\n-Introduzione a cura dell’assessore all’Ambiente Patrizia Sgarbi \nInterverranno:\n– Dott. Mauro Buda\, Agronomo\, Responsabile per Colture Industriali e Agroenergie presso la S.I.V.A.M. SpA. Intervento sulle biomasse\, cosa sono\, vantaggi e svantaggi; miti sulle biomasse \n– Dott. Guglielmo Garagnani presidente di Confagricoltura Emilia Romagna. Intervento sulla situazione attuale delle biomasse in Italia e impatto economico sull’agricoltura. \nModera la giornalista Antonella Cardone. \nAl termine degli interventi vi sarà ampio spazio per le domande del pubblico.
URL:https://www.noidiminerva.it/evento/biomasse-impariamo-a-conoscerle/
LOCATION:Auditorium comunale\, Via Genova\, 10\, Medolla\, Italia
CATEGORIES:Incontro
ATTACH;FMTTYPE=image/jpeg:https://www.noidiminerva.it/wp-content/uploads/2016/07/volantino-25-03-2015-biomasse_2_OKKKKKK-724x1024.jpg
END:VEVENT
BEGIN:VEVENT
DTSTART;TZID=Europe/Rome:20150321T204500
DTEND;TZID=Europe/Rome:20150321T220000
DTSTAMP:20260422T223954
CREATED:20160310T094933Z
LAST-MODIFIED:20170209T100036Z
UID:1725-1426970700-1426975200@www.noidiminerva.it
SUMMARY:Vaccini\, tra paure e realtà - Incontro a Bologna
DESCRIPTION:Da molti anni ormai il tema dei vaccini e dei rischi\, reali o meno\, ad esso connessi tiene banco nel dibattito pubblico nazionale e internazionale. Risale a pochi mesi fa la vicenda che ha coinvolto in Italia il vaccino antinfluenzale Fluad\, che in seguito ne è uscito scagionato\, ma che ha comunque portanto molte persone a non vaccinarsi e alla conseguente congestione degli ospedali nel mese di gennaio dovuta alla sopravvenuta emergenza influenze. Imperversa ora negli Stati Uniti la discussione sui vaccini obbligatori a causa di una impennata dei casi di morbillo dovuta alla psicosi sui vaccini\, tanto da costringere le autorità a sconsigliare ai non vaccinati di recarsi nel parco divertimenti di Disney World\, diventato un piccolo focolaio dell’epidemia.\nMa il caso senza ombra di dubbio più famoso è quello del presunto legame tra vaccinazioni obbligatorie e l’insorgenza dell’autismo\, nato da un famoso caso di corruzione di un medico inglese risalente a diciassette anni fa ma che si trascina ancora oggi ovunque nel mondo con alterne fortune\, comprese le aule giudiziarie italiane. \n\nSu tutti questi temi Minerva – Divulgazione Scientifica intende fare chiarezza con il rigore e l’imparzialità che da sempre la contraddistingue; l‘incontro si terrà Sabato 21 Marzo\, presso la Sala Cenerini del Quartiere Saragozza. \nIntroduzione a cura di:\n– Michelangelo Coltelli fondatore di “Bufale un tanto al chilo” \nRelatori:\n– Dott. Fausto Francia\, Vice-presidente della Società di Igiene e Direttore del Dipartimento di Sanità Pubblica dell’Azienda USL di Bologna.\n– Dott. Pietro Arina\, Medico Chirurgo \nL’iniziativa è organizzata da ‘Minerva – Divulgazione Scientifica’ in collaborazione con ‘Bufale un tanto al chilo’ e con il patrocino del Quartiere Saragozza \nSala consigliare Cenerini – Via Pietralata\, 60 – Bologna
URL:https://www.noidiminerva.it/evento/vaccini-tra-paure-e-realta-3/
LOCATION:Sala Cenerini – Quartiere Saragozza\, Via Pietralata\, 60\, Bologna\, Italia
CATEGORIES:Incontro
ATTACH;FMTTYPE=image/jpeg:https://www.noidiminerva.it/wp-content/uploads/2016/07/MinervaVaccini-Web.jpg
END:VEVENT
BEGIN:VEVENT
DTSTART;TZID=Europe/Rome:20150210T080000
DTEND;TZID=Europe/Rome:20150210T170000
DTSTAMP:20260422T223954
CREATED:20150924T221848Z
LAST-MODIFIED:20170209T100036Z
UID:1117-1423555200-1423587600@www.noidiminerva.it
SUMMARY:La Rivoluzione della comunicazione per le vaccinazioni
DESCRIPTION:Il 2 ottobre Minerva parteciperà all’evento “La rivoluzione della comunicazione per le vaccinazioni“\, organizzato dal Dipartimento di Prevenzione di Fano con il patrocinio della Sltl Marche; tema degli incontri saranno le strategie di comunicazione da adottare in seguito al drastico calo delle coperture vaccinali degli ultimi anni. \nL’evento è gratuito e avrà luogo il 2 ottobre in Piazza XX Settembre a Fano\, nella Sala Verde del Teatro della Fortuna; per la partecipazione è necessaria l’iscrizione dal sito dell’evento\, in cui è presente anche il programma completo e l’elenco dei relatori. \nLink: http://www.events-communication.net/b65/index.php?option=com_content&view=featured&Itemid=101
URL:https://www.noidiminerva.it/evento/la-rivoluzione-della-comunicazione-per-le-vaccinazioni/
CATEGORIES:Incontro
ATTACH;FMTTYPE=image/gif:https://www.noidiminerva.it/wp-content/uploads/2015/09/logo.gif
END:VEVENT
BEGIN:VEVENT
DTSTART;TZID=Europe/Rome:20140610T100000
DTEND;TZID=Europe/Rome:20140610T120000
DTSTAMP:20260422T223954
CREATED:20140928T164113Z
LAST-MODIFIED:20210717T132335Z
UID:661-1402394400-1402401600@www.noidiminerva.it
SUMMARY:Che cosa è EBW? - Eventi a Bologna
DESCRIPTION:A seguito del successo della prima edizione\, dal 6 al 12 ottobre si terrà in tutta Europa la seconda edizione dell’ European Biotech Week  (EBW). L’EBW è un’iniziativa promossa da vari Paesi europei con l’obiettivo di far conoscere le varie sfaccettature delle biotecnologie al grande pubblico. A tal fine sono state organizzate conferenze\, dibattiti\, laboratori\, openday e spettacoli per avvicinare i cittadini alla realtà delle biotecnologie. Le iniziative nel suolo italiano sono coordinate da ASSOBIOTEC. \nA Bologna la Settimana si aprirà il 6 Ottobre alle ore 13.15 con un flashmob in Piazza Maggiore organizzato da Minerva: una brevissima performace che prevede la riproduzione coreografica di una mitosi (divisione cellulare). L’evento è aperto a tutti: per maggiori informazioni cliccare qui. \nSuccessivamente l’8 ottobre dalle 10.00 alle 12.00 al Dipartimento di Scienze Veterinarie (Ozzano) si terrà la conferenza “Le biotecnologie sono nel nostro piatto?” organizzata da ANBI e da UniBO: tema dell’incontro sono le applicazioni biotecnologiche nel campo agroalimentare. \nInfine il 10 ottobre si terrà il playdecide presso il liceo scientifico Copernico: gli studenti delle quinte si cimenteranno in questo discussion game guidati dai tutor di Minerva\, per confrontarsi sul tema delle cellule stamina \n 
URL:https://www.noidiminerva.it/evento/ebw_eventi-bologna/
LOCATION:Piazza Maggiore\, Piazza Maggiore\, Bologna\, Italia
CATEGORIES:Incontro
ATTACH;FMTTYPE=image/jpeg:https://www.noidiminerva.it/wp-content/uploads/2014/09/european-biotech-week.jpg
ORGANIZER;CN="Minerva":MAILTO:info@noidiminerva.it
END:VEVENT
BEGIN:VEVENT
DTSTART;VALUE=DATE:20140513
DTEND;VALUE=DATE:20140514
DTSTAMP:20260422T223954
CREATED:20140511T162856Z
LAST-MODIFIED:20210717T132116Z
UID:537-1399939200-1400025599@www.noidiminerva.it
SUMMARY:Incontro nelle Scuole a Pozzuoli (NA)
DESCRIPTION:In data 13 maggio si terrà la quarta tappa del progetto di divulgazione scientifica nelle scuole superiori\, presso il ISS Pitagora di Pozzuoli (NA). \nTitolo dell’incontro sarà ” Che ne sai tu dei malati rari? discussione su persone spesso dimenticate”. \nOspite esperto sarà la Dott. Anna Maria Zaccheddu della Fondazione Telethon.
URL:https://www.noidiminerva.it/evento/incontro-nelle-scuole-a-pozzuoli-na/
LOCATION:Istituto Superiore Pitagora\, Via Tiberio\, 1\, Pozzuoli (NA)\, 80078\, Italia
CATEGORIES:Incontro
ATTACH;FMTTYPE=image/jpeg:https://www.noidiminerva.it/wp-content/uploads/2014/05/incontro-scuole-pozzuoli.jpg
ORGANIZER;CN="Minerva":MAILTO:info@noidiminerva.it
END:VEVENT
BEGIN:VEVENT
DTSTART;TZID=Europe/Rome:20140414T110000
DTEND;TZID=Europe/Rome:20140414T170000
DTSTAMP:20260422T223954
CREATED:20140408T084830Z
LAST-MODIFIED:20210717T131903Z
UID:510-1397473200-1397494800@www.noidiminerva.it
SUMMARY:Incontro nelle Scuole a Bologna
DESCRIPTION:In data 14 si terrà la terza tappa del progetto di divulgazione scientifica nelle scuole superiori\, presso il Liceo Scientifico Fermi di Bologna. \nTema dell’incontro sarà “Naturale è bello?L’alimentazione tra biologico\, additivi e pesticidi”. \nOspite esperto sarà il Dott. Dario Bressanini. \n 
URL:https://www.noidiminerva.it/evento/incontro-nelle-scuole-a-bologna/
CATEGORIES:Incontro
ATTACH;FMTTYPE=image/jpeg:https://www.noidiminerva.it/wp-content/uploads/2014/04/locandina-evento-bologna-naturale-bello.jpg
END:VEVENT
END:VCALENDAR